BEGIN:VCALENDAR
VERSION:2.0
PRODID:-//First Coding - ECPv6.6.2//NONSGML v1.0//EN
CALSCALE:GREGORIAN
METHOD:PUBLISH
X-ORIGINAL-URL:https://www.firstcoding.co.uk
X-WR-CALDESC:Events for First Coding
REFRESH-INTERVAL;VALUE=DURATION:PT1H
X-Robots-Tag:noindex
X-PUBLISHED-TTL:PT1H
BEGIN:VTIMEZONE
TZID:UTC
BEGIN:STANDARD
TZOFFSETFROM:+0000
TZOFFSETTO:+0000
TZNAME:UTC
DTSTART:20240101T000000
END:STANDARD
END:VTIMEZONE
BEGIN:VEVENT
DTSTART;TZID=UTC:20240928T120000
DTEND;TZID=UTC:20240928T150000
DTSTAMP:20260419T133131
CREATED:20240825T125348Z
LAST-MODIFIED:20240825T145025Z
UID:3397-1727524800-1727535600@www.firstcoding.co.uk
SUMMARY:Game Design Afternoon
DESCRIPTION:Are you an aspiring young game designer\, between 10 and 15 years old and eager to create\, design\, and publish your own games? Look no further! First Coding’s popular weekend game design workshops are back\, now at our brand-new Wargaming and Simulation Centre on Churchfields in Salisbury. \nDuring these workshops\, we explore essential game design concepts using Scratch\, followed by practical guidance on building and publishing your creations. Additionally\, we delve into ways that you can monetise your Scratch games! \nLocation: Wargaming and Simulation Centre\, Unit C\, Stanley Court\, Glenmore Business Park\, Churchfields Industrial Estate\, Salisbury. SP2 7GH (Behind Screwfix)  \n>> Location details and map << \nDates: Saturday\, 28th September \nTime: 12:00 PM – 3:00 PM \nCost: £30
URL:https://www.firstcoding.co.uk/event/game-design-afternoon/
LOCATION:Wargaming and Simulation Centre\, Unit C\, Stanley Court\, Glenmore Business Park\, Churchfields Industrial Estate\,\, Salisbury\, Wiltshire\, SP2 7GH\, United Kingdom
CATEGORIES:Workshop
ORGANIZER;CN="First Coding":MAILTO:hello@firstcoding.co.uk
END:VEVENT
END:VCALENDAR